BEGIN:VCALENDAR
VERSION:2.0
PRODID:-//liederkranz-rienharz.com - ECPv6.15.17//NONSGML v1.0//EN
CALSCALE:GREGORIAN
METHOD:PUBLISH
X-WR-CALNAME:liederkranz-rienharz.com
X-ORIGINAL-URL:https://liederkranz-rienharz.com
X-WR-CALDESC:Veranstaltungen für liederkranz-rienharz.com
REFRESH-INTERVAL;VALUE=DURATION:PT1H
X-Robots-Tag:noindex
X-PUBLISHED-TTL:PT1H
BEGIN:VTIMEZONE
TZID:Europe/Berlin
BEGIN:DAYLIGHT
TZOFFSETFROM:+0100
TZOFFSETTO:+0200
TZNAME:CEST
DTSTART:20210328T010000
END:DAYLIGHT
BEGIN:STANDARD
TZOFFSETFROM:+0200
TZOFFSETTO:+0100
TZNAME:CET
DTSTART:20211031T010000
END:STANDARD
BEGIN:DAYLIGHT
TZOFFSETFROM:+0100
TZOFFSETTO:+0200
TZNAME:CEST
DTSTART:20220327T010000
END:DAYLIGHT
BEGIN:STANDARD
TZOFFSETFROM:+0200
TZOFFSETTO:+0100
TZNAME:CET
DTSTART:20221030T010000
END:STANDARD
BEGIN:DAYLIGHT
TZOFFSETFROM:+0100
TZOFFSETTO:+0200
TZNAME:CEST
DTSTART:20230326T010000
END:DAYLIGHT
BEGIN:STANDARD
TZOFFSETFROM:+0200
TZOFFSETTO:+0100
TZNAME:CET
DTSTART:20231029T010000
END:STANDARD
END:VTIMEZONE
BEGIN:VEVENT
DTSTART;VALUE=DATE:20220924
DTEND;VALUE=DATE:20220926
DTSTAMP:20260421T175222
CREATED:20191107T113959Z
LAST-MODIFIED:20220904T142601Z
UID:388-1663977600-1664150399@liederkranz-rienharz.com
SUMMARY:9. Reezer Kirbe
DESCRIPTION:Liebe Leut\, nah und fern\,\n \nvom 24.09. – 25.09.2022 findet die 9. Reezer Kirbe statt. Neben Reezer Köstlichkeiten\, Kirbe Café\, Tombola\, altes bäuerliches Handwerk\, Jäger und Jagd\, historische Feuerwehrspritze gibt es auch das 1. “APE” Treffen auf dem Welzheimer Wald!\nUmrahmt werden diese zwei wunderschönen Tage mit klangvoller live-Musik.\n \nSamstag:\n16:00 Uhr Kirbe Eröffnung\n19:00 Uhr “live Rocking five”\n \nSonntag:\n10:00 Uhr Kirbegottesdienst\nin der St. Barbara Kirche\n11:00 Uhr Frühschoppenmusik\nmit Jürgen Haas\n14:30 Uhr S.o.B. Kapelle\nBöhmisch-mährische Blasmusik\n \nDer Liederkranz Rienharz freut sich auf eine festliche Veranstaltung mitten im Herzen von Rienharz.
URL:https://liederkranz-rienharz.com/event/9-reezer-kirbe/
LOCATION:Ortsmitte Rienharz\, Rienharz
CATEGORIES:Veranstaltung
END:VEVENT
END:VCALENDAR